BEGIN:VCALENDAR
VERSION:2.0
PRODID:-//Black Label Brand - ECPv5.12.2//NONSGML v1.0//EN
CALSCALE:GREGORIAN
METHOD:PUBLISH
X-WR-CALNAME:Black Label Brand
X-ORIGINAL-URL:https://blacklabelthc.com
X-WR-CALDESC:Events for Black Label Brand
REFRESH-INTERVAL;VALUE=DURATION:PT1H
X-Robots-Tag:noindex
X-PUBLISHED-TTL:PT1H
BEGIN:VTIMEZONE
TZID:America/Los_Angeles
BEGIN:DAYLIGHT
TZOFFSETFROM:-0800
TZOFFSETTO:-0700
TZNAME:PDT
DTSTART:20220313T100000
END:DAYLIGHT
BEGIN:STANDARD
TZOFFSETFROM:-0700
TZOFFSETTO:-0800
TZNAME:PST
DTSTART:20221106T090000
END:STANDARD
END:VTIMEZONE
BEGIN:VEVENT
DTSTART;VALUE=DATE:20220420
DTEND;VALUE=DATE:20220421
DTSTAMP:20260424T121141
CREATED:20220331T130857Z
LAST-MODIFIED:20220331T130857Z
UID:2360-1650412800-1650499199@blacklabelthc.com
SUMMARY:Black Label Special at Curaleaf LV
DESCRIPTION:1g/$13 Black Label Concentrates
URL:https://blacklabelthc.com/event/black-label-special-at-curaleaf-lv/
LOCATION:Curaleaf Las Vegas\, 1736 S Las Vegas Blvd\, Las Vegas\, NV\, 89104\, United States
CATEGORIES:Nevada
ATTACH;FMTTYPE=image/png:https://blacklabelthc.com/wp-content/uploads/2022/01/C172_Event-Tiles_BL_Nevada_A.png
END:VEVENT
BEGIN:VEVENT
DTSTART;TZID=America/Los_Angeles:20220420T160000
DTEND;TZID=America/Los_Angeles:20220420T190000
DTSTAMP:20260424T121141
CREATED:20220331T133534Z
LAST-MODIFIED:20220331T133534Z
UID:2362-1650470400-1650481200@blacklabelthc.com
SUMMARY:Black Label Pop-Up at Curaleaf Las Vegas - Western
DESCRIPTION:
URL:https://blacklabelthc.com/event/black-label-pop-up-at-curaleaf-las-vegas-western/
LOCATION:Curaleaf Las Vegas Western\, 2320 Western Ave\, Las Vegas\, NV\, 89102\, United States
CATEGORIES:Nevada
ATTACH;FMTTYPE=image/png:https://blacklabelthc.com/wp-content/uploads/2022/01/C172_Event-Tiles_BL_Nevada_B.png
END:VEVENT
END:VCALENDAR