BEGIN:VCALENDAR
VERSION:2.0
PRODID:-//Black Label Brand - ECPv5.12.2//NONSGML v1.0//EN
CALSCALE:GREGORIAN
METHOD:PUBLISH
X-WR-CALNAME:Black Label Brand
X-ORIGINAL-URL:https://blacklabelthc.com
X-WR-CALDESC:Events for Black Label Brand
REFRESH-INTERVAL;VALUE=DURATION:PT1H
X-Robots-Tag:noindex
X-PUBLISHED-TTL:PT1H
BEGIN:VTIMEZONE
TZID:America/Los_Angeles
BEGIN:DAYLIGHT
TZOFFSETFROM:-0800
TZOFFSETTO:-0700
TZNAME:PDT
DTSTART:20220313T100000
END:DAYLIGHT
BEGIN:STANDARD
TZOFFSETFROM:-0700
TZOFFSETTO:-0800
TZNAME:PST
DTSTART:20221106T090000
END:STANDARD
END:VTIMEZONE
BEGIN:VEVENT
DTSTART;VALUE=DATE:20220126
DTEND;VALUE=DATE:20220127
DTSTAMP:20260424T150753
CREATED:20220124T124531Z
LAST-MODIFIED:20220124T124736Z
UID:2028-1643155200-1643241599@blacklabelthc.com
SUMMARY:Black Label Special at Curaleaf Las Vegas
DESCRIPTION:3g/$53 on Black Label Concentrates
URL:https://blacklabelthc.com/event/black-label-special-at-curaleaf-las-vegas/
LOCATION:Curaleaf Las Vegas\, 1736 S Las Vegas Blvd\, Las Vegas\, NV\, 89104\, United States
CATEGORIES:Nevada
ATTACH;FMTTYPE=image/png:https://blacklabelthc.com/wp-content/uploads/2022/01/C172_Event-Tiles_BL_Nevada_B.png
END:VEVENT
BEGIN:VEVENT
DTSTART;VALUE=DATE:20220126
DTEND;VALUE=DATE:20220127
DTSTAMP:20260424T150753
CREATED:20220124T125845Z
LAST-MODIFIED:20220124T125845Z
UID:2034-1643155200-1643241599@blacklabelthc.com
SUMMARY:Black Label Promo at Curaleaf Las Vegas - Western
DESCRIPTION:3g/$53 on Black Label Concentrates
URL:https://blacklabelthc.com/event/black-label-promo-at-curaleaf-las-vegas-western/
LOCATION:Curaleaf Las Vegas Western\, 2320 Western Ave\, Las Vegas\, NV\, 89102\, United States
CATEGORIES:Nevada
ATTACH;FMTTYPE=image/png:https://blacklabelthc.com/wp-content/uploads/2022/01/C172_Event-Tiles_BL_Nevada_A.png
END:VEVENT
BEGIN:VEVENT
DTSTART;TZID=America/Los_Angeles:20220126T120000
DTEND;TZID=America/Los_Angeles:20220126T140000
DTSTAMP:20260424T150753
CREATED:20220124T131210Z
LAST-MODIFIED:20220124T131210Z
UID:2053-1643198400-1643205600@blacklabelthc.com
SUMMARY:Black Label Pop-Up at Curaleaf Las Vegas
DESCRIPTION:
URL:https://blacklabelthc.com/event/black-label-pop-up-at-curaleaf-las-vegas/
LOCATION:Curaleaf Las Vegas\, 1736 S Las Vegas Blvd\, Las Vegas\, NV\, 89104\, United States
CATEGORIES:Nevada
ATTACH;FMTTYPE=image/png:https://blacklabelthc.com/wp-content/uploads/2022/01/C172_Event-Tiles_BL_Nevada_C.png
END:VEVENT
END:VCALENDAR