BEGIN:VCALENDAR
VERSION:2.0
PRODID:-//Black Label Brand - ECPv5.12.2//NONSGML v1.0//EN
CALSCALE:GREGORIAN
METHOD:PUBLISH
X-WR-CALNAME:Black Label Brand
X-ORIGINAL-URL:https://blacklabelthc.com
X-WR-CALDESC:Events for Black Label Brand
REFRESH-INTERVAL;VALUE=DURATION:PT1H
X-Robots-Tag:noindex
X-PUBLISHED-TTL:PT1H
BEGIN:VTIMEZONE
TZID:America/Los_Angeles
BEGIN:DAYLIGHT
TZOFFSETFROM:-0800
TZOFFSETTO:-0700
TZNAME:PDT
DTSTART:20210314T100000
END:DAYLIGHT
BEGIN:STANDARD
TZOFFSETFROM:-0700
TZOFFSETTO:-0800
TZNAME:PST
DTSTART:20211107T090000
END:STANDARD
END:VTIMEZONE
BEGIN:VEVENT
DTSTART;VALUE=DATE:20211017
DTEND;VALUE=DATE:20211025
DTSTAMP:20260425T000823
CREATED:20211012T135612Z
LAST-MODIFIED:20211012T135612Z
UID:1937-1634428800-1635119999@blacklabelthc.com
SUMMARY:Black Label Special at Acres by Curaleaf
DESCRIPTION:1g/$14 Black Label Cured Resin Products
URL:https://blacklabelthc.com/event/black-label-special-at-acres-by-curaleaf/
LOCATION:Acres by Curaleaf\, 2320 Western Ave\, Las Vegas\, NV\, 89102\, United States
CATEGORIES:Nevada
END:VEVENT
END:VCALENDAR